BEGIN:VCALENDAR
VERSION:2.0
PRODID:-//HUNTER ICE SKATING CLUB - ECPv6.13.2.1//NONSGML v1.0//EN
CALSCALE:GREGORIAN
METHOD:PUBLISH
X-WR-CALNAME:HUNTER ICE SKATING CLUB
X-ORIGINAL-URL:http://www.hisc.com.au
X-WR-CALDESC:Events for HUNTER ICE SKATING CLUB
REFRESH-INTERVAL;VALUE=DURATION:PT1H
X-Robots-Tag:noindex
X-PUBLISHED-TTL:PT1H
BEGIN:VTIMEZONE
TZID:UTC
BEGIN:STANDARD
TZOFFSETFROM:+0000
TZOFFSETTO:+0000
TZNAME:UTC
DTSTART:20180101T000000
END:STANDARD
END:VTIMEZONE
BEGIN:VEVENT
DTSTART;TZID=UTC:20190505T090000
DTEND;TZID=UTC:20190505T110000
DTSTAMP:20260420T215639
CREATED:20190315T212021Z
LAST-MODIFIED:20190315T212021Z
UID:2842-1557046800-1557054000@www.hisc.com.au
SUMMARY:Aussie Skate - Ice Zoo
DESCRIPTION:
URL:http://www.hisc.com.au/event/aussie-skate-ice-zoo-2/
LOCATION:Ice Zoo\, 689 Gardeners Road\, Alexandria\, NSW\, 2015\, Australia
CATEGORIES:Competition
END:VEVENT
BEGIN:VEVENT
DTSTART;TZID=UTC:20190413T170000
DTEND;TZID=UTC:20190414T230000
DTSTAMP:20260420T215639
CREATED:20190307T005241Z
LAST-MODIFIED:20190307T005241Z
UID:2809-1555174800-1555282800@www.hisc.com.au
SUMMARY:SFSC Trophy Night - Canterbury
DESCRIPTION:
URL:http://www.hisc.com.au/event/sfsc-trophy-night-canterbury/
LOCATION:Canterbury Ice Rink\, 17a Phillips Avenue\, Canterbury\, NSW\, 2193\, Australia
CATEGORIES:Competition
END:VEVENT
BEGIN:VEVENT
DTSTART;TZID=UTC:20190331T141500
DTEND;TZID=UTC:20190331T163000
DTSTAMP:20260420T215639
CREATED:20190220T012439Z
LAST-MODIFIED:20190220T012439Z
UID:2741-1554041700-1554049800@www.hisc.com.au
SUMMARY:Jack Lee Artistic - Erina
DESCRIPTION:
URL:http://www.hisc.com.au/event/jack-lee-artistic-erina/
LOCATION:Erina Ice Arena\, A008 Karalta Rd\, Erina\, NSW\, 2250\, Australia
CATEGORIES:Competition
END:VEVENT
BEGIN:VEVENT
DTSTART;TZID=UTC:20190331T090000
DTEND;TZID=UTC:20190331T120000
DTSTAMP:20260420T215639
CREATED:20190220T005554Z
LAST-MODIFIED:20190220T005644Z
UID:2729-1554022800-1554033600@www.hisc.com.au
SUMMARY:Aussie Skate - Erina
DESCRIPTION:
URL:http://www.hisc.com.au/event/aussie-skate-erina-2/
LOCATION:Erina Ice Arena\, A008 Karalta Rd\, Erina\, NSW\, 2250\, Australia
CATEGORIES:Competition
END:VEVENT
BEGIN:VEVENT
DTSTART;TZID=UTC:20190316T150000
DTEND;TZID=UTC:20190316T190000
DTSTAMP:20260420T215639
CREATED:20190203T020655Z
LAST-MODIFIED:20190203T021001Z
UID:2686-1552748400-1552762800@www.hisc.com.au
SUMMARY:Penrith Artistic
DESCRIPTION:
URL:http://www.hisc.com.au/event/penrith-artistic/
LOCATION:Penrith Ice Palace\, 7-10 Pattys Place\, Penrith\, NSW\, 2750\, Australia
CATEGORIES:Competition
END:VEVENT
BEGIN:VEVENT
DTSTART;TZID=UTC:20190309T170000
DTEND;TZID=UTC:20190309T230000
DTSTAMP:20260420T215639
CREATED:20190203T020249Z
LAST-MODIFIED:20190203T021149Z
UID:2680-1552150800-1552172400@www.hisc.com.au
SUMMARY:MIRA Artistic Competition
DESCRIPTION:
URL:http://www.hisc.com.au/event/mira/
LOCATION:Macquarie Ice Rink\, Macquarie Shopping Centre\, Herring Rd & Waterloo Rd\, MACQUARIE PARK\, NSW\, 2113\, Australia
CATEGORIES:Competition
END:VEVENT
BEGIN:VEVENT
DTSTART;TZID=UTC:20190307T160000
DTEND;TZID=UTC:20190307T220000
DTSTAMP:20260420T215639
CREATED:20190224T234646Z
LAST-MODIFIED:20190224T234646Z
UID:2765-1551974400-1551996000@www.hisc.com.au
SUMMARY:NSW Artistic Inc Rubina Doolan Trophy - Canterbury
DESCRIPTION:
URL:http://www.hisc.com.au/event/nsw-artistic-inc-rubina-doolan-trophy-canterbury/
LOCATION:Canterbury Ice Rink\, 17a Phillips Avenue\, Canterbury\, NSW\, 2193\, Australia
CATEGORIES:Competition
END:VEVENT
BEGIN:VEVENT
DTSTART;TZID=UTC:20190224T160000
DTEND;TZID=UTC:20190224T193000
DTSTAMP:20260420T215639
CREATED:20190203T015529Z
LAST-MODIFIED:20190203T021353Z
UID:2674-1551024000-1551036600@www.hisc.com.au
SUMMARY:Ice Zoo Artistic
DESCRIPTION:
URL:http://www.hisc.com.au/event/ice-zoo-artistic-2/
LOCATION:Ice Zoo\, 689 Gardeners Road\, Alexandria\, NSW\, 2015\, Australia
CATEGORIES:Competition
END:VEVENT
BEGIN:VEVENT
DTSTART;TZID=UTC:20181013T071500
DTEND;TZID=UTC:20181014T170000
DTSTAMP:20260420T215639
CREATED:20180903T025822Z
LAST-MODIFIED:20180903T025822Z
UID:2291-1539414900-1539536400@www.hisc.com.au
SUMMARY:Triple Challenge – Aussie Skate/Artistic/IJS – Liverpool
DESCRIPTION:
URL:http://www.hisc.com.au/event/triple-challenge-aussie-skate-artistic-ijs-liverpool/
LOCATION:Liverpool Catholic Club Ice Rink\, 452/458 Hoxton Park Rd\, Prestons\, NSW\, 2170\, Australia
CATEGORIES:Competition
END:VEVENT
BEGIN:VEVENT
DTSTART;TZID=UTC:20181006T080000
DTEND;TZID=UTC:20181007T170000
DTSTAMP:20260420T215639
CREATED:20180826T021650Z
LAST-MODIFIED:20180826T021650Z
UID:2243-1538812800-1538931600@www.hisc.com.au
SUMMARY:SA State Championships & Spring Cup - SA
DESCRIPTION:
URL:http://www.hisc.com.au/event/sa-state-championships-spring-cup-sa/
LOCATION:Ice Arena – Thebarton\, 23 James Congdon Drive\, Thebarton\, SA\, 5031\, Australia
CATEGORIES:Competition
END:VEVENT
BEGIN:VEVENT
DTSTART;TZID=UTC:20180929T080000
DTEND;TZID=UTC:20181001T170000
DTSTAMP:20260420T215639
CREATED:20180821T040338Z
LAST-MODIFIED:20180821T040338Z
UID:2181-1538208000-1538413200@www.hisc.com.au
SUMMARY:NSW State Championships - Erina
DESCRIPTION:
URL:http://www.hisc.com.au/event/nsw-state-championships-erina/
LOCATION:Erina Ice Arena\, A008 Karalta Rd\, Erina\, NSW\, 2250\, Australia
CATEGORIES:Competition
END:VEVENT
BEGIN:VEVENT
DTSTART;TZID=UTC:20180922T170000
DTEND;TZID=UTC:20180922T190000
DTSTAMP:20260420T215639
CREATED:20180826T011812Z
LAST-MODIFIED:20180826T011812Z
UID:2203-1537635600-1537642800@www.hisc.com.au
SUMMARY:Sydney Theatre Cup - Penrith
DESCRIPTION:
URL:http://www.hisc.com.au/event/sydney-theatre-cup-penrith/
LOCATION:Penrith Ice Palace\, 7-10 Pattys Place\, Penrith\, NSW\, 2750\, Australia
CATEGORIES:Competition
END:VEVENT
BEGIN:VEVENT
DTSTART;TZID=UTC:20180914T080000
DTEND;TZID=UTC:20180916T170000
DTSTAMP:20260420T215639
CREATED:20180811T142107Z
LAST-MODIFIED:20180826T022930Z
UID:2079-1536912000-1537117200@www.hisc.com.au
SUMMARY:Sydney Synch Festival - Penrith
DESCRIPTION:
URL:http://www.hisc.com.au/event/sydney-synch-festival-penrith/
LOCATION:Penrith Ice Palace\, 7-10 Pattys Place\, Penrith\, NSW\, 2750\, Australia
CATEGORIES:Competition
END:VEVENT
BEGIN:VEVENT
DTSTART;TZID=UTC:20180908T153000
DTEND;TZID=UTC:20180908T190000
DTSTAMP:20260420T215639
CREATED:20180811T141813Z
LAST-MODIFIED:20180903T024321Z
UID:2075-1536420600-1536433200@www.hisc.com.au
SUMMARY:Aussie Skate - Hunter
DESCRIPTION:
URL:http://www.hisc.com.au/event/aussie-skate-hunter/
LOCATION:Hunter Ice Skating Stadium\, 230 Macquarie Road\, Warners Bay\, NSW\, 2282\, Australia
CATEGORIES:Competition
END:VEVENT
BEGIN:VEVENT
DTSTART;TZID=UTC:20180901T170000
DTEND;TZID=UTC:20180901T210000
DTSTAMP:20260420T215639
CREATED:20180514T032025Z
LAST-MODIFIED:20180514T032025Z
UID:1845-1535821200-1535835600@www.hisc.com.au
SUMMARY:MISC Club Championships
DESCRIPTION:
URL:http://www.hisc.com.au/event/misc-club-championships/
LOCATION:Macquarie Ice Rink\, Macquarie Shopping Centre\, Herring Rd & Waterloo Rd\, MACQUARIE PARK\, NSW\, 2113\, Australia
CATEGORIES:Competition
END:VEVENT
BEGIN:VEVENT
DTSTART;TZID=UTC:20180826T160000
DTEND;TZID=UTC:20180826T210000
DTSTAMP:20260420T215639
CREATED:20180811T150214Z
LAST-MODIFIED:20180811T150214Z
UID:2107-1535299200-1535317200@www.hisc.com.au
SUMMARY:Reg Park Artistic - ACT
DESCRIPTION:
URL:http://www.hisc.com.au/event/reg-park-artistic-act/
LOCATION:Phillip Swimming & Ice Skating Centre\, 1 Irving Street\, Phillip\, Canberra\, ACT\, 2606\, Australia
CATEGORIES:Competition
END:VEVENT
BEGIN:VEVENT
DTSTART;TZID=UTC:20180824T180000
DTEND;TZID=UTC:20180825T200000
DTSTAMP:20260420T215639
CREATED:20180811T150020Z
LAST-MODIFIED:20180811T150020Z
UID:2103-1535133600-1535227200@www.hisc.com.au
SUMMARY:National Federation Challenge - ACT
DESCRIPTION:
URL:http://www.hisc.com.au/event/national-federation-challenge-act/
LOCATION:Phillip Swimming & Ice Skating Centre\, 1 Irving Street\, Phillip\, Canberra\, ACT\, 2606\, Australia
CATEGORIES:Competition
END:VEVENT
BEGIN:VEVENT
DTSTART;TZID=UTC:20180818T160000
DTEND;TZID=UTC:20180819T223000
DTSTAMP:20260420T215639
CREATED:20180407T202932Z
LAST-MODIFIED:20180407T202932Z
UID:1667-1534608000-1534717800@www.hisc.com.au
SUMMARY:SFSC Club Championships
DESCRIPTION:
URL:http://www.hisc.com.au/event/sfsc-club-championships/
LOCATION:Canterbury Ice Rink\, 17a Phillips Avenue\, Canterbury\, NSW\, 2193\, Australia
CATEGORIES:Competition
END:VEVENT
BEGIN:VEVENT
DTSTART;TZID=UTC:20180809T080000
DTEND;TZID=UTC:20180812T170000
DTSTAMP:20260420T215639
CREATED:20180709T034541Z
LAST-MODIFIED:20180709T034541Z
UID:1985-1533801600-1534093200@www.hisc.com.au
SUMMARY:Crystal Challenge
DESCRIPTION:
URL:http://www.hisc.com.au/event/crystal-challenge/
LOCATION:O’Brien Group Arena\, Pearl River Rd\, Docklands\, Vic\, 3008\, Australia
CATEGORIES:Competition
END:VEVENT
BEGIN:VEVENT
DTSTART;TZID=UTC:20180805T160000
DTEND;TZID=UTC:20180805T190000
DTSTAMP:20260420T215639
CREATED:20180709T040343Z
LAST-MODIFIED:20180709T040343Z
UID:1999-1533484800-1533495600@www.hisc.com.au
SUMMARY:Aussie Skate - Ice Zoo
DESCRIPTION:
URL:http://www.hisc.com.au/event/aussie-skate-ice-zoo/
LOCATION:Ice Zoo\, 689 Gardeners Road\, Alexandria\, NSW\, 2015\, Australia
CATEGORIES:Competition
END:VEVENT
BEGIN:VEVENT
DTSTART;TZID=UTC:20180729T090000
DTEND;TZID=UTC:20180729T183000
DTSTAMP:20260420T215639
CREATED:20180407T202604Z
LAST-MODIFIED:20180723T013933Z
UID:1659-1532854800-1532889000@www.hisc.com.au
SUMMARY:MJS Trophy
DESCRIPTION:
URL:http://www.hisc.com.au/event/mjs-trophy/
LOCATION:Hunter Ice Skating Stadium\, 230 Macquarie Road\, Warners Bay\, NSW\, 2282\, Australia
CATEGORIES:Competition
END:VEVENT
BEGIN:VEVENT
DTSTART;TZID=UTC:20180608T080000
DTEND;TZID=UTC:20180611T223000
DTSTAMP:20260420T215639
CREATED:20180407T202305Z
LAST-MODIFIED:20180407T202305Z
UID:1651-1528444800-1528756200@www.hisc.com.au
SUMMARY:Hollins Trophy
DESCRIPTION:
URL:http://www.hisc.com.au/event/hollins-trophy/
LOCATION:Canterbury Ice Rink\, 17a Phillips Avenue\, Canterbury\, NSW\, 2193\, Australia
CATEGORIES:Competition
END:VEVENT
BEGIN:VEVENT
DTSTART;TZID=UTC:20180520T160000
DTEND;TZID=UTC:20180520T220000
DTSTAMP:20260420T215639
CREATED:20180407T194032Z
LAST-MODIFIED:20180407T194032Z
UID:1633-1526832000-1526853600@www.hisc.com.au
SUMMARY:SFSC Trophy Night
DESCRIPTION:
URL:http://www.hisc.com.au/event/sfsc-trophy-night/
LOCATION:Canterbury Ice Rink\, 17a Phillips Avenue\, Canterbury\, NSW\, 2193\, Australia
CATEGORIES:Competition
END:VEVENT
BEGIN:VEVENT
DTSTART;TZID=UTC:20180511T180000
DTEND;TZID=UTC:20180512T200000
DTSTAMP:20260420T215639
CREATED:20180418T024227Z
LAST-MODIFIED:20180418T024227Z
UID:1777-1526061600-1526155200@www.hisc.com.au
SUMMARY:Autumn Trophy - ACT
DESCRIPTION:
URL:http://www.hisc.com.au/event/autumn-trophy-act/
LOCATION:Phillip Swimming & Ice Skating Centre\, 1 Irving Street\, Phillip\, Canberra\, ACT\, 2606\, Australia
CATEGORIES:Competition
END:VEVENT
BEGIN:VEVENT
DTSTART;TZID=UTC:20180428T090000
DTEND;TZID=UTC:20180428T170000
DTSTAMP:20260420T215639
CREATED:20180327T010317Z
LAST-MODIFIED:20180327T010544Z
UID:1601-1524906000-1524934800@www.hisc.com.au
SUMMARY:PIP Trophy
DESCRIPTION:
URL:http://www.hisc.com.au/event/pip-trophy/
LOCATION:Penrith Ice Palace\, 7-10 Pattys Place\, Penrith\, NSW\, 2750\, Australia
CATEGORIES:Competition
END:VEVENT
BEGIN:VEVENT
DTSTART;TZID=UTC:20180422T144500
DTEND;TZID=UTC:20180422T180000
DTSTAMP:20260420T215639
CREATED:20180327T011750Z
LAST-MODIFIED:20180327T011750Z
UID:1611-1524408300-1524420000@www.hisc.com.au
SUMMARY:Aussie Skate - Erina
DESCRIPTION:
URL:http://www.hisc.com.au/event/aussie-skate-erina/
LOCATION:Erina Ice Arena\, A008 Karalta Rd\, Erina\, NSW\, 2250\, Australia
CATEGORIES:Competition
END:VEVENT
BEGIN:VEVENT
DTSTART;TZID=UTC:20180415T153000
DTEND;TZID=UTC:20180415T220000
DTSTAMP:20260420T215639
CREATED:20180327T001259Z
LAST-MODIFIED:20180327T010929Z
UID:1561-1523806200-1523829600@www.hisc.com.au
SUMMARY:NSWISA Artistic Inc Rubina Doolan Trophy
DESCRIPTION:
URL:http://www.hisc.com.au/event/nswisa-artistic-inc-rubina-doolan-trophy/
LOCATION:Canterbury Ice Rink\, 17a Phillips Avenue\, Canterbury\, NSW\, 2193\, Australia
CATEGORIES:Competition
END:VEVENT
BEGIN:VEVENT
DTSTART;TZID=UTC:20180408T160000
DTEND;TZID=UTC:20180408T193000
DTSTAMP:20260420T215639
CREATED:20180327T003300Z
LAST-MODIFIED:20180327T010813Z
UID:1577-1523203200-1523215800@www.hisc.com.au
SUMMARY:Ice Zoo Artistic
DESCRIPTION:
URL:http://www.hisc.com.au/event/ice-zoo-artistic/
LOCATION:Ice Zoo\, 689 Gardeners Road\, Alexandria\, NSW\, 2015\, Australia
CATEGORIES:Competition
END:VEVENT
END:VCALENDAR